BEGIN:VCALENDAR
VERSION:2.0
PRODID:-//Arrowhead Area Agency on Aging - ECPv6.15.20//NONSGML v1.0//EN
CALSCALE:GREGORIAN
METHOD:PUBLISH
X-ORIGINAL-URL:https://arrowheadaging.org
X-WR-CALDESC:Events for Arrowhead Area Agency on Aging
REFRESH-INTERVAL;VALUE=DURATION:PT1H
X-Robots-Tag:noindex
X-PUBLISHED-TTL:PT1H
BEGIN:VTIMEZONE
TZID:America/Chicago
BEGIN:DAYLIGHT
TZOFFSETFROM:-0600
TZOFFSETTO:-0500
TZNAME:CDT
DTSTART:20240310T080000
END:DAYLIGHT
BEGIN:STANDARD
TZOFFSETFROM:-0500
TZOFFSETTO:-0600
TZNAME:CST
DTSTART:20241103T070000
END:STANDARD
BEGIN:DAYLIGHT
TZOFFSETFROM:-0600
TZOFFSETTO:-0500
TZNAME:CDT
DTSTART:20250309T080000
END:DAYLIGHT
BEGIN:STANDARD
TZOFFSETFROM:-0500
TZOFFSETTO:-0600
TZNAME:CST
DTSTART:20251102T070000
END:STANDARD
BEGIN:DAYLIGHT
TZOFFSETFROM:-0600
TZOFFSETTO:-0500
TZNAME:CDT
DTSTART:20260308T080000
END:DAYLIGHT
BEGIN:STANDARD
TZOFFSETFROM:-0500
TZOFFSETTO:-0600
TZNAME:CST
DTSTART:20261101T070000
END:STANDARD
END:VTIMEZONE
BEGIN:VEVENT
DTSTART;TZID=America/Chicago:20251208T103000
DTEND;TZID=America/Chicago:20251208T113000
DTSTAMP:20260425T071134
CREATED:20251204T205102Z
LAST-MODIFIED:20251204T205205Z
UID:1752-1765189800-1765193400@arrowheadaging.org
SUMMARY:Medicare 101
DESCRIPTION:Join us for a presentation of Medicare 101 on December 8\, 2025\, from 10:30 AM – 11:30 AM at the Cloquet Public Library (320 14th St.\, Cloquet\, MN 55720).\n\nMedicare can be complicated\, but Minnesota Aging Pathways is here to help. Whether you’ve been on Medicare for a few years and just need a refresher\, or you’re brand new to Medicare\, Medicare 101 will help you understand the basics so you can manage your health care options.\n\nRegistration is not necessary. Call Minnesota Aging Pathways at 800-333-2433 with questions.
URL:https://arrowheadaging.org/event/medicare-101/
LOCATION:Cloquet Public Library\, 320 14th St\, Cloquet\, MN\, 55720\, United States
CATEGORIES:Minnesota Aging Pathways
ATTACH;FMTTYPE=image/png:https://arrowheadaging.org/wp-content/uploads/2025/08/Medicare-101-MAP-082025.png
END:VEVENT
BEGIN:VEVENT
DTSTART;TZID=America/Chicago:20251210T100000
DTEND;TZID=America/Chicago:20251210T113000
DTSTAMP:20260425T071134
CREATED:20241218T181829Z
LAST-MODIFIED:20250925T153848Z
UID:1247-1765360800-1765366200@arrowheadaging.org
SUMMARY:Preventing Frauds & Scams
DESCRIPTION:Fraud and scams are on the rise\, with some scammers specifically targeting older adults. But there are ways you can protect yourself and your personal information. Preventing fraud & scams includes information about fraud prevention\, how you can detect and report fraud and scams\, so you can keep your personal information and yourself safe. This presentation includes information from the Senior Medicare Patrol\, a federal education and prevention program. \nWe are authorized to offer 1.5 hours of Continuing Education Units (CEUs) for your participation. Be sure to ask about this\, if you need the CEUs. \nThis class is offered online using the Microsoft Teams meeting platform. You must pre-register for the class\, the meeting link will be emailed to you soon after your registration. \nWe are committed to accessibility. If you have an accommodation request that will allow you to participate in the class more fully\, please contact Dianne at dk****@**dc.org by December 5\, 2025.
URL:https://arrowheadaging.org/event/preventing-frauds-scams-dec-10-25/
LOCATION:Online
CATEGORIES:Minnesota Aging Pathways
ATTACH;FMTTYPE=image/png:https://arrowheadaging.org/wp-content/uploads/2025/08/Preventing-fraud-and-scams-MAP-082025.png
END:VEVENT
BEGIN:VEVENT
DTSTART;TZID=America/Chicago:20251211T103000
DTEND;TZID=America/Chicago:20251211T113000
DTSTAMP:20260425T071134
CREATED:20251204T205906Z
LAST-MODIFIED:20251204T205906Z
UID:1753-1765449000-1765452600@arrowheadaging.org
SUMMARY:Medicare 101
DESCRIPTION:Join us for a presentation of Medicare 101 on December 11\, 2025\, from 10:30 AM – 11:30 AM at the Moose Lake Public Library (313 Elm Ave\, Moose Lake\, MN 55767).\n\nMedicare can be complicated\, but Minnesota Aging Pathways is here to help. Whether you’ve been on Medicare for a few years and just need a refresher\, or you’re brand new to Medicare\, Medicare 101 will help you understand the basics so you can manage your health care options.\n\nCall the Moose Lake Public Library at 218-485-4424 to register. Call Minnesota Aging Pathways at 800-333-2433 with questions.
URL:https://arrowheadaging.org/event/medicare-101-2/
LOCATION:Moose Lake Public Library\, 313 Elm Ave\, Moose Lake\, MN\, 55767\, United States
CATEGORIES:Minnesota Aging Pathways
ATTACH;FMTTYPE=image/png:https://arrowheadaging.org/wp-content/uploads/2025/08/Medicare-101-MAP-082025.png
END:VEVENT
BEGIN:VEVENT
DTSTART;TZID=America/Chicago:20251215T103000
DTEND;TZID=America/Chicago:20251215T113000
DTSTAMP:20260425T071134
CREATED:20251204T210605Z
LAST-MODIFIED:20251204T210605Z
UID:1755-1765794600-1765798200@arrowheadaging.org
SUMMARY:Preventing Fraud & Scams
DESCRIPTION:Join us for a presentation of Preventing Fraud & Scams on December 15\, 2025\, from 10:30 AM – 11:30 AM at the Cloquet Public Library (320 14th St.\, Cloquet\, MN 55720).\n\nFraud and scams are on the rise\, with some scammers specifically targeting older adults. But there are ways you can protect yourself and your personal information. This presentation includes information about fraud prevention\, and you’ll learn how to detect and report fraud and scams\, so you can keep your personal information and yourself safe.\n\nRegistration is not necessary. Call Minnesota Aging Pathways at 800-333-2433 with questions.
URL:https://arrowheadaging.org/event/preventing-fraud-scams-3/
LOCATION:Cloquet Public Library\, 320 14th St\, Cloquet\, MN\, 55720\, United States
CATEGORIES:Minnesota Aging Pathways
ATTACH;FMTTYPE=image/png:https://arrowheadaging.org/wp-content/uploads/2025/08/Preventing-fraud-and-scams-MAP-082025.png
END:VEVENT
BEGIN:VEVENT
DTSTART;TZID=America/Chicago:20251217T100000
DTEND;TZID=America/Chicago:20251217T110000
DTSTAMP:20260425T071134
CREATED:20250926T195117Z
LAST-MODIFIED:20251017T152440Z
UID:1662-1765965600-1765969200@arrowheadaging.org
SUMMARY:Staying Connected: Combating Social Isolation as We Age
DESCRIPTION:Join us for an engaging and informative webinar designed specifically for older adults facing the challenges of social isolation. Learn about the emotional and physical impacts of loneliness and discover practical tools and strategies to build meaningful connections\, both in-person and online. Our experts will share community resources\, technology tips\, and self-care practices that empower you to stay socially active and mentally well. Whether you’re living alone\, managing limited mobility\, or simply looking to expand your social circle\, this session will offer supportive insights and real solutions. \nFor questions or help registering\, contact Lori Kangas-Olson at lk**********@**dc.org or 800-232-2433\, ext. 3.
URL:https://arrowheadaging.org/event/staying-connected-combating-social-isolation-as-we-age/
LOCATION:Online
CATEGORIES:AAAA Webinars
ATTACH;FMTTYPE=image/png:https://arrowheadaging.org/wp-content/uploads/2025/09/122025_staying_connected_webinar_500.png
END:VEVENT
BEGIN:VEVENT
DTSTART;TZID=America/Chicago:20251218T103000
DTEND;TZID=America/Chicago:20251218T113000
DTSTAMP:20260425T071134
CREATED:20251204T210839Z
LAST-MODIFIED:20251204T210839Z
UID:1756-1766053800-1766057400@arrowheadaging.org
SUMMARY:Preventing Fraud & Scams
DESCRIPTION:Join us for a presentation of Preventing Fraud & Scams on December 18\, 2025\, from 10:30 AM – 11:30 AM at the Moose Lake Public Library (313 Elm Ave\, Moose Lake\, MN 55767).\n\nFraud and scams are on the rise\, with some scammers specifically targeting older adults. But there are ways you can protect yourself and your personal information. This presentation includes information about fraud prevention\, and you’ll learn how to detect and report fraud and scams\, so you can keep your personal information and yourself safe.\n\nCall the Moose Lake Public Library at 218-485-4424 to register. Call Minnesota Aging Pathways at 800-333-2433 with questions.
URL:https://arrowheadaging.org/event/preventing-fraud-scams-4/
LOCATION:Moose Lake Public Library\, 313 Elm Ave\, Moose Lake\, MN\, 55767\, United States
CATEGORIES:Minnesota Aging Pathways
ATTACH;FMTTYPE=image/png:https://arrowheadaging.org/wp-content/uploads/2025/08/Preventing-fraud-and-scams-MAP-082025.png
END:VEVENT
END:VCALENDAR