BEGIN:VCALENDAR
VERSION:2.0
PRODID:-//Arrowhead Area Agency on Aging - ECPv6.15.20//NONSGML v1.0//EN
CALSCALE:GREGORIAN
METHOD:PUBLISH
X-WR-CALNAME:Arrowhead Area Agency on Aging
X-ORIGINAL-URL:https://arrowheadaging.org
X-WR-CALDESC:Events for Arrowhead Area Agency on Aging
REFRESH-INTERVAL;VALUE=DURATION:PT1H
X-Robots-Tag:noindex
X-PUBLISHED-TTL:PT1H
BEGIN:VTIMEZONE
TZID:America/Chicago
BEGIN:DAYLIGHT
TZOFFSETFROM:-0600
TZOFFSETTO:-0500
TZNAME:CDT
DTSTART:20240310T080000
END:DAYLIGHT
BEGIN:STANDARD
TZOFFSETFROM:-0500
TZOFFSETTO:-0600
TZNAME:CST
DTSTART:20241103T070000
END:STANDARD
BEGIN:DAYLIGHT
TZOFFSETFROM:-0600
TZOFFSETTO:-0500
TZNAME:CDT
DTSTART:20250309T080000
END:DAYLIGHT
BEGIN:STANDARD
TZOFFSETFROM:-0500
TZOFFSETTO:-0600
TZNAME:CST
DTSTART:20251102T070000
END:STANDARD
BEGIN:DAYLIGHT
TZOFFSETFROM:-0600
TZOFFSETTO:-0500
TZNAME:CDT
DTSTART:20260308T080000
END:DAYLIGHT
BEGIN:STANDARD
TZOFFSETFROM:-0500
TZOFFSETTO:-0600
TZNAME:CST
DTSTART:20261101T070000
END:STANDARD
END:VTIMEZONE
BEGIN:VEVENT
DTSTART;TZID=America/Chicago:20250910T100000
DTEND;TZID=America/Chicago:20250910T113000
DTSTAMP:20260423T212220
CREATED:20241218T181426Z
LAST-MODIFIED:20250925T153919Z
UID:1250-1757498400-1757503800@arrowheadaging.org
SUMMARY:Preventing Frauds & Scams
DESCRIPTION:Fraud and scams are on the rise\, with some scammers specifically targeting older adults. But there are ways you can protect yourself and your personal information. Preventing fraud & scams includes information about fraud prevention\, how you can detect and report fraud and scams\, so you can keep your personal information and yourself safe.This presentation includes information from the Senior Medicare Patrol\, a federal education and prevention program. \nWe are authorized to offer 1.5 hours of Continuing Education Units (CEUs) for your participation. Be sure to ask about this\, if you need the CEUs. \nThis class is offered online using the Microsoft Teams meeting platform. You must pre-register for the class\, the meeting link will be emailed to you soon after your registration. \nWe are committed to accessibility. If you have an accommodation request that will allow you to participate in the class more fully\, please contact Dianne at dk****@**dc.org by September 5\, 2025.
URL:https://arrowheadaging.org/event/preventing-frauds-scams-sep-10-25/
LOCATION:Online
CATEGORIES:Minnesota Aging Pathways
ATTACH;FMTTYPE=image/png:https://arrowheadaging.org/wp-content/uploads/2025/08/Preventing-fraud-and-scams-MAP-082025.png
END:VEVENT
BEGIN:VEVENT
DTSTART;TZID=America/Chicago:20250821T140000
DTEND;TZID=America/Chicago:20250821T160000
DTSTAMP:20260423T212220
CREATED:20250121T174416Z
LAST-MODIFIED:20250925T153927Z
UID:1378-1755784800-1755792000@arrowheadaging.org
SUMMARY:2025 Senior LinkAge Line New to Medicare
DESCRIPTION:Medicare can be complicated\, and if you’re just getting started\, it can seem very overwhelming. The Senior LinkAge Line can help you learn all the basics – Medicare Parts A\, B\, C\, D\, and more. And we will give you an overview of the Medicare.gov site so you can compare plans and choose the one that will be best for you. \nPresented by By Dancing Sky Area Agency on Aging and Arrowhead Area Agency on Aging
URL:https://arrowheadaging.org/event/2025-senior-linkage-line-new-to-medicare-7/
LOCATION:Online
CATEGORIES:Minnesota Aging Pathways
END:VEVENT
BEGIN:VEVENT
DTSTART;TZID=America/Chicago:20250813T100000
DTEND;TZID=America/Chicago:20250813T113000
DTSTAMP:20260423T212220
CREATED:20241218T181307Z
LAST-MODIFIED:20250925T153942Z
UID:1251-1755079200-1755084600@arrowheadaging.org
SUMMARY:Preventing Frauds & Scams
DESCRIPTION:Fraud and scams are on the rise\, with some scammers specifically targeting older adults. But there are ways you can protect yourself and your personal information. Preventing fraud & scams includes information about fraud prevention\, how you can detect and report fraud and scams\, so you can keep your personal information and yourself safe.This presentation includes information from the Senior Medicare Patrol\, a federal education and prevention program. \nWe are authorized to offer 1.5 hours of Continuing Education Units (CEUs) for your participation. Be sure to ask about this\, if you need the CEUs. \nThis class is offered online using the Microsoft Teams meeting platform. You must pre-register for the class\, the meeting link will be emailed to you soon after your registration. \nWe are committed to accessibility. If you have an accommodation request that will allow you to participate in the class more fully\, please contact Dianne at dk****@**dc.org by August 8\, 2025.
URL:https://arrowheadaging.org/event/preventing-frauds-scams-aug-13-25/
LOCATION:Online
CATEGORIES:Minnesota Aging Pathways
ATTACH;FMTTYPE=image/png:https://arrowheadaging.org/wp-content/uploads/2025/08/Preventing-fraud-and-scams-MAP-082025.png
END:VEVENT
BEGIN:VEVENT
DTSTART;TZID=America/Chicago:20250717T140000
DTEND;TZID=America/Chicago:20250717T160000
DTSTAMP:20260423T212220
CREATED:20250121T174242Z
LAST-MODIFIED:20250925T153947Z
UID:1377-1752760800-1752768000@arrowheadaging.org
SUMMARY:2025 Senior LinkAge Line New to Medicare
DESCRIPTION:Medicare can be complicated\, and if you’re just getting started\, it can seem very overwhelming. The Senior LinkAge Line can help you learn all the basics – Medicare Parts A\, B\, C\, D\, and more. And we will give you an overview of the Medicare.gov site so you can compare plans and choose the one that will be best for you. \nPresented by By Dancing Sky Area Agency on Aging and Arrowhead Area Agency on Aging
URL:https://arrowheadaging.org/event/2025-senior-linkage-line-new-to-medicare-6/
LOCATION:Online
CATEGORIES:Minnesota Aging Pathways
END:VEVENT
BEGIN:VEVENT
DTSTART;TZID=America/Chicago:20250714T080000
DTEND;TZID=America/Chicago:20250714T170000
DTSTAMP:20260423T212220
CREATED:20250714T212523Z
LAST-MODIFIED:20250925T153953Z
UID:1558-1752480000-1752512400@arrowheadaging.org
SUMMARY:Preventing Fraud & Scams - In-Person in International Falls
DESCRIPTION:Fraud and scams are on the rise\, with some scammers specifically targeting older adults. But there are ways you can protect yourself and your\npersonal information. Preventing fraud & scams includes information about fraud prevention\, how you can detect and report fraud and scams\, so you\ncan keep your personal information and yourself safe. \nTo register\, call Cori at 218-666-8604. \nThis presentation will be held at the Backus Community Center in the John Faith Little Theater Room. \nThe Senior LinkAge Line is a free\, statewide service of the Minnesota Board on Aging in partnership with Minnesota’s area agencies on aging. The Senior LinkAge Line helps older Minnesotans and caregivers find answers and connect to the services and support they need. Call 800-333-2433 with any questions.
URL:https://arrowheadaging.org/event/preventing-fraud-scams-in-person-in-international-falls/
LOCATION:Backus Community Center\, 900 5th St\, International Falls\, MN\, 56649\, United States
CATEGORIES:Minnesota Aging Pathways
END:VEVENT
BEGIN:VEVENT
DTSTART;TZID=America/Chicago:20250709T100000
DTEND;TZID=America/Chicago:20250709T113000
DTSTAMP:20260423T212220
CREATED:20241218T181134Z
LAST-MODIFIED:20250925T153959Z
UID:1252-1752055200-1752060600@arrowheadaging.org
SUMMARY:Preventing Frauds & Scams
DESCRIPTION:Fraud and scams are on the rise\, with some scammers specifically targeting older adults. But there are ways you can protect yourself and your personal information. Preventing fraud & scams includes information about fraud prevention\, how you can detect and report fraud and scams\, so you can keep your personal information and yourself safe.This presentation includes information from the Senior Medicare Patrol\, a federal education and prevention program. \nWe are authorized to offer 1.5 hours of Continuing Education Units (CEUs) for your participation. Be sure to ask about this\, if you need the CEUs. \nThis class is offered online using the Microsoft Teams meeting platform. You must pre-register for the class\, the meeting link will be emailed to you soon after your registration. \nWe are committed to accessibility. If you have an accommodation request that will allow you to participate in the class more fully\, please contact Dianne at dk****@**dc.org by July 3\, 2025.
URL:https://arrowheadaging.org/event/preventing-frauds-scams-jul-9-25/
LOCATION:Online
CATEGORIES:Minnesota Aging Pathways
END:VEVENT
BEGIN:VEVENT
DTSTART;TZID=America/Chicago:20250604T100000
DTEND;TZID=America/Chicago:20250604T113000
DTSTAMP:20260423T212220
CREATED:20241218T181017Z
LAST-MODIFIED:20250925T154005Z
UID:1253-1749031200-1749036600@arrowheadaging.org
SUMMARY:Preventing Frauds & Scams
DESCRIPTION:Fraud and scams are on the rise\, with some scammers specifically targeting older adults. But there are ways you can protect yourself and your personal information. Preventing fraud & scams includes information about fraud prevention\, how you can detect and report fraud and scams\, so you can keep your personal information and yourself safe.This presentation includes information from the Senior Medicare Patrol\, a federal education and prevention program. \nWe are authorized to offer 1.5 hours of Continuing Education Units (CEUs) for your participation. Be sure to ask about this\, if you need the CEUs. \nThis class is offered online using the Microsoft Teams meeting platform. You must pre-register for the class\, the meeting link will be emailed to you soon after your registration. \nWe are committed to accessibility. If you have an accommodation request that will allow you to participate in the class more fully\, please contact Dianne at dk****@**dc.org by May 30\, 2025.
URL:https://arrowheadaging.org/event/preventing-frauds-scams-jun-11-25/
LOCATION:Online
CATEGORIES:Minnesota Aging Pathways
END:VEVENT
BEGIN:VEVENT
DTSTART;TZID=America/Chicago:20250515T140000
DTEND;TZID=America/Chicago:20250515T160000
DTSTAMP:20260423T212220
CREATED:20250121T174118Z
LAST-MODIFIED:20250925T154012Z
UID:1376-1747317600-1747324800@arrowheadaging.org
SUMMARY:2025 Senior LinkAge Line New to Medicare
DESCRIPTION:Medicare can be complicated\, and if you’re just getting started\, it can seem very overwhelming. The Senior LinkAge Line can help you learn all the basics – Medicare Parts A\, B\, C\, D\, and more. And we will give you an overview of the Medicare.gov site so you can compare plans and choose the one that will be best for you. \nPresented by By Dancing Sky Area Agency on Aging and Arrowhead Area Agency on Aging
URL:https://arrowheadaging.org/event/2025-senior-linkage-line-new-to-medicare-5/
LOCATION:Online
CATEGORIES:Minnesota Aging Pathways
END:VEVENT
BEGIN:VEVENT
DTSTART;TZID=America/Chicago:20250514T100000
DTEND;TZID=America/Chicago:20250514T113000
DTSTAMP:20260423T212220
CREATED:20241218T180901Z
LAST-MODIFIED:20250925T154254Z
UID:1254-1747216800-1747222200@arrowheadaging.org
SUMMARY:Preventing Frauds & Scams
DESCRIPTION:Fraud and scams are on the rise\, with some scammers specifically targeting older adults. But there are ways you can protect yourself and your personal information. Preventing fraud & scams includes information about fraud prevention\, how you can detect and report fraud and scams\, so you can keep your personal information and yourself safe.This presentation includes information from the Senior Medicare Patrol\, a federal education and prevention program. \nWe are authorized to offer 1.5 hours of Continuing Education Units (CEUs) for your participation. Be sure to ask about this\, if you need the CEUs. \nThis class is offered online using the Microsoft Teams meeting platform. You must pre-register for the class\, the meeting link will be emailed to you soon after your registration. \nWe are committed to accessibility. If you have an accommodation request that will allow you to participate in the class more fully\, please contact Dianne at dk****@**dc.org by May 9\, 2025.
URL:https://arrowheadaging.org/event/preventing-frauds-scams-may-14-25/
LOCATION:Online
CATEGORIES:Minnesota Aging Pathways
END:VEVENT
BEGIN:VEVENT
DTSTART;TZID=America/Chicago:20250417T140000
DTEND;TZID=America/Chicago:20250417T160000
DTSTAMP:20260423T212220
CREATED:20250121T174036Z
LAST-MODIFIED:20250925T154302Z
UID:1375-1744898400-1744905600@arrowheadaging.org
SUMMARY:2025 Senior LinkAge Line New to Medicare
DESCRIPTION:Medicare can be complicated\, and if you’re just getting started\, it can seem very overwhelming. The Senior LinkAge Line can help you learn all the basics – Medicare Parts A\, B\, C\, D\, and more. And we will give you an overview of the Medicare.gov site so you can compare plans and choose the one that will be best for you. \nPresented by By Dancing Sky Area Agency on Aging and Arrowhead Area Agency on Aging
URL:https://arrowheadaging.org/event/2025-senior-linkage-line-new-to-medicare-4/
LOCATION:Online
CATEGORIES:Minnesota Aging Pathways
END:VEVENT
BEGIN:VEVENT
DTSTART;TZID=America/Chicago:20250409T100000
DTEND;TZID=America/Chicago:20250409T113000
DTSTAMP:20260423T212220
CREATED:20241218T180719Z
LAST-MODIFIED:20250925T154315Z
UID:1255-1744192800-1744198200@arrowheadaging.org
SUMMARY:Preventing Frauds & Scams
DESCRIPTION:Fraud and scams are on the rise\, with some scammers specifically targeting older adults. But there are ways you can protect yourself and your personal information. Preventing fraud & scams includes information about fraud prevention\, how you can detect and report fraud and scams\, so you can keep your personal information and yourself safe.This presentation includes information from the Senior Medicare Patrol\, a federal education and prevention program. \nWe are authorized to offer 1.5 hours of Continuing Education Units (CEUs) for your participation. Be sure to ask about this\, if you need the CEUs. \nThis class is offered online using the Microsoft Teams meeting platform. You must pre-register for the class\, the meeting link will be emailed to you soon after your registration. \nWe are committed to accessibility. If you have an accommodation request that will allow you to participate in the class more fully\, please contact Dianne at dk****@**dc.org by April 4\, 2025.
URL:https://arrowheadaging.org/event/preventing-frauds-scams-apr-9-25/
LOCATION:Online
CATEGORIES:Minnesota Aging Pathways
END:VEVENT
BEGIN:VEVENT
DTSTART;TZID=America/Chicago:20250408T103000
DTEND;TZID=America/Chicago:20250408T120000
DTSTAMP:20260423T212220
CREATED:20241220T170447Z
LAST-MODIFIED:20250925T154322Z
UID:1342-1744108200-1744113600@arrowheadaging.org
SUMMARY:Preventing Fraud & Scams - Itasca Area Community Education Class
DESCRIPTION:Fraud and scams are on the rise\, with some scammers specifically targeting older adults. But there are ways you can protect yourself and your personal information. This presentation includes information about fraud prevention\, and you’ll learn how to detect and report fraud and scams\, so you can keep your personal information and yourself safe. \n 
URL:https://arrowheadaging.org/event/preventing-fraud-scams/
LOCATION:Itasca Area Community Education\, 601 SW 7th Ave\, Grand Rapids\, Minnesota\, 55744
CATEGORIES:Minnesota Aging Pathways
END:VEVENT
BEGIN:VEVENT
DTSTART;TZID=America/Chicago:20250320T140000
DTEND;TZID=America/Chicago:20250320T160000
DTSTAMP:20260423T212220
CREATED:20250121T173945Z
LAST-MODIFIED:20250925T154328Z
UID:1374-1742479200-1742486400@arrowheadaging.org
SUMMARY:2025 Senior LinkAge Line New to Medicare
DESCRIPTION:Medicare can be complicated\, and if you’re just getting started\, it can seem very overwhelming. The Senior LinkAge Line can help you learn all the basics – Medicare Parts A\, B\, C\, D\, and more. And we will give you an overview of the Medicare.gov site so you can compare plans and choose the one that will be best for you. \nPresented by By Dancing Sky Area Agency on Aging and Arrowhead Area Agency on Aging
URL:https://arrowheadaging.org/event/2025-senior-linkage-line-new-to-medicare-3/
LOCATION:Online
CATEGORIES:Minnesota Aging Pathways
END:VEVENT
BEGIN:VEVENT
DTSTART;TZID=America/Chicago:20250312T100000
DTEND;TZID=America/Chicago:20250312T113000
DTSTAMP:20260423T212220
CREATED:20241218T180548Z
LAST-MODIFIED:20250925T154334Z
UID:1256-1741773600-1741779000@arrowheadaging.org
SUMMARY:Preventing Frauds & Scams
DESCRIPTION:Fraud and scams are on the rise\, with some scammers specifically targeting older adults. But there are ways you can protect yourself and your personal information. Preventing fraud & scams includes information about fraud prevention\, how you can detect and report fraud and scams\, so you can keep your personal information and yourself safe.This presentation includes information from the Senior Medicare Patrol\, a federal education and prevention program. \nWe are authorized to offer 1.5 hours of Continuing Education Units (CEUs) for your participation. Be sure to ask about this\, if you need the CEUs. \nThis class is offered online using Zoom. You must pre-register for the class\, the meeting link will be emailed to you soon after your registration. \nWe are committed to accessibility. If you have an accommodation request that will allow you to participate in the class more fully\, please contact Dianne at dk****@**dc.org by March 7\, 2025.
URL:https://arrowheadaging.org/event/preventing-frauds-scams-mar-12-25/
LOCATION:Online
CATEGORIES:Minnesota Aging Pathways
END:VEVENT
BEGIN:VEVENT
DTSTART;TZID=America/Chicago:20250311T103000
DTEND;TZID=America/Chicago:20250311T120000
DTSTAMP:20260423T212220
CREATED:20250214T233021Z
LAST-MODIFIED:20250925T154341Z
UID:1434-1741689000-1741694400@arrowheadaging.org
SUMMARY:Medicare 101 - Itasca Area Community Education Class
DESCRIPTION:Medicare can be complicated\, but the Senior LinkAge Line is here to help. Whether you’ve been on Medicare for a few years and just need a refresher\, or you’re brand new to Medicare\, Medicare 101 will help you understand the basics so you can manage your health care options. \nRegister here.
URL:https://arrowheadaging.org/event/medicare-101-itasca-area-community-education/
LOCATION:Itasca Area Community Education\, 601 SW 7th Ave\, Grand Rapids\, Minnesota\, 55744
CATEGORIES:Minnesota Aging Pathways
END:VEVENT
BEGIN:VEVENT
DTSTART;TZID=America/Chicago:20250220T140000
DTEND;TZID=America/Chicago:20250220T160000
DTSTAMP:20260423T212220
CREATED:20250121T173757Z
LAST-MODIFIED:20250925T154403Z
UID:1373-1740060000-1740067200@arrowheadaging.org
SUMMARY:2025 Senior LinkAge Line New to Medicare
DESCRIPTION:Medicare can be complicated\, and if you’re just getting started\, it can seem very overwhelming. The Senior LinkAge Line can help you learn all the basics – Medicare Parts A\, B\, C\, D\, and more. And we will give you an overview of the Medicare.gov site so you can compare plans and choose the one that will be best for you. \nPresented by By Dancing Sky Area Agency on Aging and Arrowhead Area Agency on Aging
URL:https://arrowheadaging.org/event/2025-senior-linkage-line-new-to-medicare-2/
LOCATION:Online
CATEGORIES:Minnesota Aging Pathways
END:VEVENT
BEGIN:VEVENT
DTSTART;TZID=America/Chicago:20250212T100000
DTEND;TZID=America/Chicago:20250212T113000
DTSTAMP:20260423T212220
CREATED:20241218T180319Z
LAST-MODIFIED:20250925T154410Z
UID:1257-1739354400-1739359800@arrowheadaging.org
SUMMARY:Preventing Frauds & Scams
DESCRIPTION:Fraud and scams are on the rise\, with some scammers specifically targeting older adults. But there are ways you can protect yourself and your personal information. Preventing fraud & scams includes information about fraud prevention\, how you can detect and report fraud and scams\, so you can keep your personal information and yourself safe.This presentation includes information from the Senior Medicare Patrol\, a federal education and prevention program. \nWe are authorized to offer 1.5 hours of Continuing Education Units (CEUs) for your participation. Be sure to ask about this\, if you need the CEUs. \nThis class is offered online using Zoom. You must pre-register for the class\, the meeting link will be emailed to you soon after your registration. \nWe are committed to accessibility. If you have an accommodation request that will allow you to participate in the class more fully\, please contact Dianne at dk****@**dc.org by February 7\, 2025.
URL:https://arrowheadaging.org/event/preventing-frauds-scams-feb-12-25/
LOCATION:Online
CATEGORIES:Minnesota Aging Pathways
END:VEVENT
BEGIN:VEVENT
DTSTART;TZID=America/Chicago:20250116T140000
DTEND;TZID=America/Chicago:20250116T160000
DTSTAMP:20260423T212220
CREATED:20250109T155433Z
LAST-MODIFIED:20250925T154419Z
UID:1356-1737036000-1737043200@arrowheadaging.org
SUMMARY:2025 Senior LinkAge Line New to Medicare
DESCRIPTION:Medicare can be complicated\, and if you’re just getting started\, it can seem very overwhelming. The Senior LinkAge Line can help you learn all the basics – Medicare Parts A\, B\, C\, D\, and more. And we will give you an overview of the Medicare.gov site so you can compare plans and choose the one that will be best for you. \nPresented by By Dancing Sky Area Agency on Aging and Arrowhead Area Agency on Aging
URL:https://arrowheadaging.org/event/2025-senior-linkage-line-new-to-medicare/
LOCATION:Online
CATEGORIES:Minnesota Aging Pathways
END:VEVENT
BEGIN:VEVENT
DTSTART;TZID=America/Chicago:20250108T100000
DTEND;TZID=America/Chicago:20250108T113000
DTSTAMP:20260423T212220
CREATED:20241212T215331Z
LAST-MODIFIED:20250925T154431Z
UID:1225-1736330400-1736335800@arrowheadaging.org
SUMMARY:Preventing Frauds & Scams
DESCRIPTION:Fraud and scams are on the rise\, with some scammers specifically targeting older adults. But there are ways you can protect yourself and your personal information. Preventing fraud & scams includes information about fraud prevention\, how you can detect and report fraud and scams\, so you can keep your personal information and yourself safe. \nThis presentation includes information from the Senior Medicare Patrol\, a federal education and prevention program. \nWe are authorized to offer 1.5 hours of Continuing Education Units (CEUs) for your participation. Be sure to ask about this\, if you need the CEUs. \nThis class is offered online using the Microsoft Teams meeting platform. You must pre-register for the class\, the meeting link will be emailed to you soon after your registration. \nWe are committed to accessibility. If you have an accommodation request that will allow you to participate in the class more fully\, please contact Dianne at dk****@**dc.org by January 3\, 2025. \nRegister here: https://January-Preventing-Fraud-and-Scams.eventbrite.com/
URL:https://arrowheadaging.org/event/preventing-frauds-scams/
LOCATION:Online
CATEGORIES:Minnesota Aging Pathways
END:VEVENT
END:VCALENDAR