BEGIN:VCALENDAR
VERSION:2.0
PRODID:-//Arrowhead Area Agency on Aging - ECPv6.15.20//NONSGML v1.0//EN
CALSCALE:GREGORIAN
METHOD:PUBLISH
X-WR-CALNAME:Arrowhead Area Agency on Aging
X-ORIGINAL-URL:https://arrowheadaging.org
X-WR-CALDESC:Events for Arrowhead Area Agency on Aging
REFRESH-INTERVAL;VALUE=DURATION:PT1H
X-Robots-Tag:noindex
X-PUBLISHED-TTL:PT1H
BEGIN:VTIMEZONE
TZID:America/Chicago
BEGIN:DAYLIGHT
TZOFFSETFROM:-0600
TZOFFSETTO:-0500
TZNAME:CDT
DTSTART:20250309T080000
END:DAYLIGHT
BEGIN:STANDARD
TZOFFSETFROM:-0500
TZOFFSETTO:-0600
TZNAME:CST
DTSTART:20251102T070000
END:STANDARD
BEGIN:DAYLIGHT
TZOFFSETFROM:-0600
TZOFFSETTO:-0500
TZNAME:CDT
DTSTART:20260308T080000
END:DAYLIGHT
BEGIN:STANDARD
TZOFFSETFROM:-0500
TZOFFSETTO:-0600
TZNAME:CST
DTSTART:20261101T070000
END:STANDARD
BEGIN:DAYLIGHT
TZOFFSETFROM:-0600
TZOFFSETTO:-0500
TZNAME:CDT
DTSTART:20270314T080000
END:DAYLIGHT
BEGIN:STANDARD
TZOFFSETFROM:-0500
TZOFFSETTO:-0600
TZNAME:CST
DTSTART:20271107T070000
END:STANDARD
END:VTIMEZONE
BEGIN:VEVENT
DTSTART;TZID=America/Chicago:20260318T100000
DTEND;TZID=America/Chicago:20260318T110000
DTSTAMP:20260419T125834
CREATED:20251117T194543Z
LAST-MODIFIED:20260302T160208Z
UID:1721-1773828000-1773831600@arrowheadaging.org
SUMMARY:Mental Health and Aging: Thriving Through Life's Later Stages
DESCRIPTION:Join us for an essential conversation about maintaining and improving mental wellness as we age. \nThis webinar explores common mental health challenges facing older adults\, including depression\, anxiety\, grief\, and social isolation. Our presenter will share practical strategies for building resilience\, staying socially connected\, and recognizing when to seek professional support. Whether you’re an older adult\, caregiver\, family member\, or professional\, you’ll gain valuable insight into promoting emotional well-being and breaking down stigma around mental health in later life. \nDiscover resources and tools to support mental wellness at every stage of aging. \nPresented by: Danielle Thornton\, MPH (she/her)\, Community Health Education Coordinator\, NAMI
URL:https://arrowheadaging.org/event/mental-health-and-aging-thriving-through-lifes-later-stages/
LOCATION:Online
CATEGORIES:AAAA Webinars
ATTACH;FMTTYPE=image/jpeg:https://arrowheadaging.org/wp-content/uploads/2025/11/Mar_18_Mental_Health_and_Aging_12_8_72.jpg
END:VEVENT
END:VCALENDAR